BEGIN:VCALENDAR
VERSION:2.0
PRODID:-//buechold-online.de - ECPv6.15.20//NONSGML v1.0//EN
CALSCALE:GREGORIAN
METHOD:PUBLISH
X-WR-CALNAME:buechold-online.de
X-ORIGINAL-URL:https://buechold-online.de
X-WR-CALDESC:Veranstaltungen für buechold-online.de
REFRESH-INTERVAL;VALUE=DURATION:PT1H
X-Robots-Tag:noindex
X-PUBLISHED-TTL:PT1H
BEGIN:VTIMEZONE
TZID:Europe/Berlin
BEGIN:DAYLIGHT
TZOFFSETFROM:+0100
TZOFFSETTO:+0200
TZNAME:CEST
DTSTART:20250330T010000
END:DAYLIGHT
BEGIN:STANDARD
TZOFFSETFROM:+0200
TZOFFSETTO:+0100
TZNAME:CET
DTSTART:20251026T010000
END:STANDARD
BEGIN:DAYLIGHT
TZOFFSETFROM:+0100
TZOFFSETTO:+0200
TZNAME:CEST
DTSTART:20260329T010000
END:DAYLIGHT
BEGIN:STANDARD
TZOFFSETFROM:+0200
TZOFFSETTO:+0100
TZNAME:CET
DTSTART:20261025T010000
END:STANDARD
BEGIN:DAYLIGHT
TZOFFSETFROM:+0100
TZOFFSETTO:+0200
TZNAME:CEST
DTSTART:20270328T010000
END:DAYLIGHT
BEGIN:STANDARD
TZOFFSETFROM:+0200
TZOFFSETTO:+0100
TZNAME:CET
DTSTART:20271031T010000
END:STANDARD
END:VTIMEZONE
BEGIN:VEVENT
DTSTART;TZID=Europe/Berlin:20261003T150000
DTEND;TZID=Europe/Berlin:20261003T230000
DTSTAMP:20260421T112743
CREATED:20250130T152740Z
LAST-MODIFIED:20260126T165051Z
UID:747-1791039600-1791068400@buechold-online.de
SUMMARY:4. HECKEFEST | Heckeschmatzer
DESCRIPTION:Veranstaltungsort „August sein See“
URL:https://buechold-online.de/event/3-heckefest-heckeschmatzer/
LOCATION:August sein Se
END:VEVENT
BEGIN:VEVENT
DTSTART;TZID=Europe/Berlin:20261004T103000
DTEND;TZID=Europe/Berlin:20261005T150000
DTSTAMP:20260421T112743
CREATED:20250128T205315Z
LAST-MODIFIED:20260126T165439Z
UID:713-1791109800-1791212400@buechold-online.de
SUMMARY:Weibergedöns
DESCRIPTION:Weiter Informationen werden in der Dorf-WhatsApp-Gruppe veröffentlicht
URL:https://buechold-online.de/event/pfarrfest-patrozinium/
LOCATION:Sportheim Büchold
END:VEVENT
BEGIN:VEVENT
DTSTART;TZID=Europe/Berlin:20261008T140000
DTEND;TZID=Europe/Berlin:20261008T170000
DTSTAMP:20260421T112743
CREATED:20260126T165603Z
LAST-MODIFIED:20260126T165603Z
UID:2035-1791468000-1791478800@buechold-online.de
SUMMARY:Donnerstagstreff
DESCRIPTION:Besondere Themen werden in der Dorf-WhatsApp-Gruppe veröffentlicht
URL:https://buechold-online.de/event/donnerstagstreff-7/
LOCATION:Dorfgemeinschaftshaus Büchold
END:VEVENT
BEGIN:VEVENT
DTSTART;VALUE=DATE:20261009
DTEND;VALUE=DATE:20261012
DTSTAMP:20260421T112743
CREATED:20250130T153943Z
LAST-MODIFIED:20260126T172136Z
UID:763-1791504000-1791763199@buechold-online.de
SUMMARY:THEATERAUFFÜHRUNGEN | Theatergruppe Büchold
DESCRIPTION:Fr./Sa. 19.30 Uhr\, So. 14 Uhr und 18.30 Uhr
URL:https://buechold-online.de/event/theaterauffuehrungen-theatergruppe-buechold-2/
LOCATION:Sportheim Büchold
END:VEVENT
BEGIN:VEVENT
DTSTART;VALUE=DATE:20261016
DTEND;VALUE=DATE:20261019
DTSTAMP:20260421T112743
CREATED:20250130T153806Z
LAST-MODIFIED:20260126T172055Z
UID:761-1792108800-1792367999@buechold-online.de
SUMMARY:THEATERAUFFÜHRUNGEN | Theatergruppe Büchold
DESCRIPTION:Fr./Sa. 19.30 Uhr\, So. 14 Uhr und 18.30 Uhr
URL:https://buechold-online.de/event/theaterauffuehrungen-theatergruppe-buechold/
LOCATION:Sportheim Büchold
END:VEVENT
BEGIN:VEVENT
DTSTART;TZID=Europe/Berlin:20261023T160000
DTEND;TZID=Europe/Berlin:20261025T170000
DTSTAMP:20260421T112743
CREATED:20250130T152905Z
LAST-MODIFIED:20260126T170032Z
UID:749-1792771200-1792947600@buechold-online.de
SUMMARY:FAMILIENWOCHENENDE AM VOLKERSBERG
DESCRIPTION:Familienkreis Büchold (Anmeldung: Anna Lambl)
URL:https://buechold-online.de/event/familienwochenende-am-volkersberg/
END:VEVENT
BEGIN:VEVENT
DTSTART;TZID=Europe/Berlin:20261024T093000
DTEND;TZID=Europe/Berlin:20261024T120000
DTSTAMP:20260421T112743
CREATED:20250130T153301Z
LAST-MODIFIED:20260126T170152Z
UID:753-1792834200-1792843200@buechold-online.de
SUMMARY:PACKEN WIR‘S GEMEINSAM AN - BÜCHOLD SOLL GLÄNZEN
DESCRIPTION:Der Gartenbau- und Dorfverschönerungsverein möchte unseren Friedhof glänzen lassen. 9:30 Uhr Treffpunkt Friedhof. Bitte Hacke und Schaufel mitbringen.
URL:https://buechold-online.de/event/packen-wirs-gemeinsam-an-buechold-soll-glaenzen-3/
LOCATION:Pfarrkirche Büchold
END:VEVENT
BEGIN:VEVENT
DTSTART;TZID=Europe/Berlin:20261031T193000
DTEND;TZID=Europe/Berlin:20261031T210000
DTSTAMP:20260421T112743
CREATED:20250130T153417Z
LAST-MODIFIED:20260126T170234Z
UID:755-1793475000-1793480400@buechold-online.de
SUMMARY:DELEGIERTENVERSAMMLUNG | Vereinsring
DESCRIPTION:Wir planen das Jahr 2026.
URL:https://buechold-online.de/event/delegiertenversammlung-vereinsring/
LOCATION:Sportheim Büchold
END:VEVENT
END:VCALENDAR