BEGIN:VCALENDAR
VERSION:2.0
PRODID:-//buechold-online.de - ECPv6.15.20//NONSGML v1.0//EN
CALSCALE:GREGORIAN
METHOD:PUBLISH
X-ORIGINAL-URL:https://buechold-online.de
X-WR-CALDESC:Veranstaltungen für buechold-online.de
REFRESH-INTERVAL;VALUE=DURATION:PT1H
X-Robots-Tag:noindex
X-PUBLISHED-TTL:PT1H
BEGIN:VTIMEZONE
TZID:Europe/Berlin
BEGIN:DAYLIGHT
TZOFFSETFROM:+0100
TZOFFSETTO:+0200
TZNAME:CEST
DTSTART:20250330T010000
END:DAYLIGHT
BEGIN:STANDARD
TZOFFSETFROM:+0200
TZOFFSETTO:+0100
TZNAME:CET
DTSTART:20251026T010000
END:STANDARD
BEGIN:DAYLIGHT
TZOFFSETFROM:+0100
TZOFFSETTO:+0200
TZNAME:CEST
DTSTART:20260329T010000
END:DAYLIGHT
BEGIN:STANDARD
TZOFFSETFROM:+0200
TZOFFSETTO:+0100
TZNAME:CET
DTSTART:20261025T010000
END:STANDARD
BEGIN:DAYLIGHT
TZOFFSETFROM:+0100
TZOFFSETTO:+0200
TZNAME:CEST
DTSTART:20270328T010000
END:DAYLIGHT
BEGIN:STANDARD
TZOFFSETFROM:+0200
TZOFFSETTO:+0100
TZNAME:CET
DTSTART:20271031T010000
END:STANDARD
END:VTIMEZONE
BEGIN:VEVENT
DTSTART;TZID=Europe/Berlin:20260904T180000
DTEND;TZID=Europe/Berlin:20260904T220000
DTSTAMP:20260421T101057
CREATED:20250128T205150Z
LAST-MODIFIED:20260126T164331Z
UID:711-1788544800-1788559200@buechold-online.de
SUMMARY:Brückenschoppen
DESCRIPTION:ab 18 Uhr; Getränke und Gläser bitte selbst mitbringen
URL:https://buechold-online.de/event/brunnenschoppen-2/
LOCATION:Kneippbecken
END:VEVENT
BEGIN:VEVENT
DTSTART;TZID=Europe/Berlin:20260910T140000
DTEND;TZID=Europe/Berlin:20260910T170000
DTSTAMP:20260421T101057
CREATED:20260126T164447Z
LAST-MODIFIED:20260126T164518Z
UID:2025-1789048800-1789059600@buechold-online.de
SUMMARY:Donnerstagstreff
DESCRIPTION:Besondere Themen werden in der Dorf-WhatsApp-Gruppe veröffentlicht
URL:https://buechold-online.de/event/donnerstagstreff-6/
LOCATION:Dorfgemeinschaftshaus Büchold
END:VEVENT
BEGIN:VEVENT
DTSTART;TZID=Europe/Berlin:20260912T100000
DTEND;TZID=Europe/Berlin:20260913T190000
DTSTAMP:20260421T101057
CREATED:20250130T152258Z
LAST-MODIFIED:20260126T164618Z
UID:742-1789207200-1789326000@buechold-online.de
SUMMARY:15. JUGENDSPORTFEST | DJK/SV Büchold
DESCRIPTION:
URL:https://buechold-online.de/event/14-jugendsportfest-djk-sv-buechold/
LOCATION:Sportplatz Büchold
END:VEVENT
BEGIN:VEVENT
DTSTART;TZID=Europe/Berlin:20260913T100000
DTEND;TZID=Europe/Berlin:20260913T180000
DTSTAMP:20260421T101057
CREATED:20250130T152458Z
LAST-MODIFIED:20260126T164732Z
UID:745-1789293600-1789322400@buechold-online.de
SUMMARY:TAG DES OFFENEN DENKMALS AM SCHLOSS
DESCRIPTION:Schlossmuseum geöffnet. Führungen lt. Aushang.
URL:https://buechold-online.de/event/tag-des-offenen-denkmals-am-schloss/
LOCATION:Schloss Büchold
END:VEVENT
END:VCALENDAR