BEGIN:VCALENDAR
VERSION:2.0
PRODID:-//buechold-online.de - ECPv6.15.20//NONSGML v1.0//EN
CALSCALE:GREGORIAN
METHOD:PUBLISH
X-WR-CALNAME:buechold-online.de
X-ORIGINAL-URL:https://buechold-online.de
X-WR-CALDESC:Veranstaltungen für buechold-online.de
REFRESH-INTERVAL;VALUE=DURATION:PT1H
X-Robots-Tag:noindex
X-PUBLISHED-TTL:PT1H
BEGIN:VTIMEZONE
TZID:Europe/Berlin
BEGIN:DAYLIGHT
TZOFFSETFROM:+0100
TZOFFSETTO:+0200
TZNAME:CEST
DTSTART:20240331T010000
END:DAYLIGHT
BEGIN:STANDARD
TZOFFSETFROM:+0200
TZOFFSETTO:+0100
TZNAME:CET
DTSTART:20241027T010000
END:STANDARD
BEGIN:DAYLIGHT
TZOFFSETFROM:+0100
TZOFFSETTO:+0200
TZNAME:CEST
DTSTART:20250330T010000
END:DAYLIGHT
BEGIN:STANDARD
TZOFFSETFROM:+0200
TZOFFSETTO:+0100
TZNAME:CET
DTSTART:20251026T010000
END:STANDARD
BEGIN:DAYLIGHT
TZOFFSETFROM:+0100
TZOFFSETTO:+0200
TZNAME:CEST
DTSTART:20260329T010000
END:DAYLIGHT
BEGIN:STANDARD
TZOFFSETFROM:+0200
TZOFFSETTO:+0100
TZNAME:CET
DTSTART:20261025T010000
END:STANDARD
END:VTIMEZONE
BEGIN:VEVENT
DTSTART;TZID=Europe/Berlin:20251012T160000
DTEND;TZID=Europe/Berlin:20251012T173000
DTSTAMP:20260421T112830
CREATED:20250130T153001Z
LAST-MODIFIED:20250130T153001Z
UID:751-1760284800-1760290200@buechold-online.de
SUMMARY:ORGELKONZERT FLORIAN SCHWING & BERNHARD SEELBACH
DESCRIPTION:
URL:https://buechold-online.de/event/orgelkonzert-florian-schwing-bernhard-seelbach/
LOCATION:Pfarrkirche Büchold
END:VEVENT
BEGIN:VEVENT
DTSTART;TZID=Europe/Berlin:20251028T190000
DTEND;TZID=Europe/Berlin:20251028T203000
DTSTAMP:20260421T112830
CREATED:20251023T152113Z
LAST-MODIFIED:20251023T152113Z
UID:1933-1761678000-1761683400@buechold-online.de
SUMMARY:Jagdgenossenschaft Büchold
DESCRIPTION:Einladung an alle Jagdgenossen aus Büchold.\nAm Dienstag den 28.10.2025 findet um 19:00 Uhr im Sportheim Büchold eine Versammlung statt um den Heckenrückschnitt für den Winter 2025/2026 zu besprechen\, und Wünsche einzubringen.
URL:https://buechold-online.de/event/jagdgenossenschaft-buechold/
LOCATION:Sportheim Büchold
END:VEVENT
END:VCALENDAR